BEGIN:VCALENDAR
VERSION:2.0
PRODID:-//Pasco County Continuum of Care - ECPv6.0.5//NONSGML v1.0//EN
CALSCALE:GREGORIAN
METHOD:PUBLISH
X-WR-CALNAME:Pasco County Continuum of Care
X-ORIGINAL-URL:https://www.pascocountycoc.org
X-WR-CALDESC:Events for Pasco County Continuum of Care
REFRESH-INTERVAL;VALUE=DURATION:PT1H
X-Robots-Tag:noindex
X-PUBLISHED-TTL:PT1H
BEGIN:VTIMEZONE
TZID:UTC
BEGIN:STANDARD
TZOFFSETFROM:+0000
TZOFFSETTO:+0000
TZNAME:UTC
DTSTART:20230101T000000
END:STANDARD
END:VTIMEZONE
BEGIN:VEVENT
DTSTART;TZID=UTC:20230126T090000
DTEND;TZID=UTC:20230126T110000
DTSTAMP:20260422T220649
CREATED:20230124T130952Z
LAST-MODIFIED:20230124T130952Z
UID:4315-1674723600-1674730800@www.pascocountycoc.org
SUMMARY:CoC General Membership Meeting
DESCRIPTION:
URL:https://www.pascocountycoc.org/event/coc-general-membership-meeting/
LOCATION:Odessa Community Park Community Center\, 1627 Chesapeake Drive\, Odessa\, FL\, 33556\, United States
END:VEVENT
BEGIN:VEVENT
DTSTART;TZID=UTC:20230208T080000
DTEND;TZID=UTC:20230208T120000
DTSTAMP:20260422T220649
CREATED:20230124T131247Z
LAST-MODIFIED:20230124T131247Z
UID:4319-1675843200-1675857600@www.pascocountycoc.org
SUMMARY:Hearing Aid Battery Giveaway
DESCRIPTION:
URL:https://www.pascocountycoc.org/event/hearing-aid-battery-giveaway/
LOCATION:Sertoma Speech & Hearing Foundatin of FL Office\, 5211 US Hwy 19\, Ste 200\, New Port Richey\, FL\, 34652\, United States
END:VEVENT
END:VCALENDAR