BEGIN:VCALENDAR
VERSION:2.0
PRODID:-//Pasco County Continuum of Care - ECPv6.0.5//NONSGML v1.0//EN
CALSCALE:GREGORIAN
METHOD:PUBLISH
X-WR-CALNAME:Pasco County Continuum of Care
X-ORIGINAL-URL:https://www.pascocountycoc.org
X-WR-CALDESC:Events for Pasco County Continuum of Care
REFRESH-INTERVAL;VALUE=DURATION:PT1H
X-Robots-Tag:noindex
X-PUBLISHED-TTL:PT1H
BEGIN:VTIMEZONE
TZID:UTC
BEGIN:STANDARD
TZOFFSETFROM:+0000
TZOFFSETTO:+0000
TZNAME:UTC
DTSTART:20220101T000000
END:STANDARD
END:VTIMEZONE
BEGIN:VEVENT
DTSTART;VALUE=DATE:20221211
DTEND;VALUE=DATE:20221212
DTSTAMP:20260422T220649
CREATED:20221207T175345Z
LAST-MODIFIED:20221207T175345Z
UID:3574-1670716800-1670803199@www.pascocountycoc.org
SUMMARY:TEST 1
DESCRIPTION:TEST 1TEST 1TEST 1TEST 1TEST 1TEST 1TEST 1TEST 1TEST 1TEST 1TEST 1TEST 1TEST 1TEST 1TEST 1TEST 1TEST 1TEST 1TEST 1TEST 1TEST 1TEST 1TEST 1TEST 1TEST 1TEST 1TEST 1TEST 1TEST 1TEST 1TEST 1TEST 1TEST 1TEST 1TEST 1TEST 1TEST 1TEST 1TEST 1TEST 1TEST 1TEST 1TEST 1TEST 1TEST 1TEST 1TEST 1TEST 1TEST 1TEST 1TEST 1TEST 1TEST 1TEST 1TEST 1TEST 1TEST 1TEST 1TEST 1TEST 1TEST 1TEST 1TEST 1TEST 1TEST 1TEST 1TEST 1TEST 1TEST 1TEST 1TEST 1TEST 1TEST 1TEST 1TEST 1TEST 1TEST 1TEST 1TEST 1TEST 1TEST 1TEST 1TEST 1TEST 1TEST 1TEST 1TEST 1TEST 1TEST 1TEST 1TEST 1TEST 1TEST 1TEST 1TEST 1TEST 1TEST 1TEST 1TEST 1TEST 1TEST 1TEST 1TEST 1TEST 1TEST 1TEST 1TEST 1TEST 1TEST 1TEST 1TEST 1TEST 1TEST 1TEST 1
URL:https://www.pascocountycoc.org/event/test-1/
LOCATION:ABCD HOUSE\, ABCD HOUSE\, MILWAUKEE\, 53201\, United States
CATEGORIES:Events
ATTACH;FMTTYPE=image/jpeg:https://www.pascocountycoc.org/wp-content/uploads/2022/12/21.jpg
ORGANIZER;CN="SAM%20ABC":MAILTO:info@pascocounty.com
END:VEVENT
END:VCALENDAR